BEGIN:VCALENDAR
VERSION:2.0
PRODID:-//Emily Peasgood - ECPv6.10.2//NONSGML v1.0//EN
CALSCALE:GREGORIAN
METHOD:PUBLISH
X-WR-CALNAME:Emily Peasgood
X-ORIGINAL-URL:https://emilypeasgood.com
X-WR-CALDESC:Events for Emily Peasgood
REFRESH-INTERVAL;VALUE=DURATION:PT1H
X-Robots-Tag:noindex
X-PUBLISHED-TTL:PT1H
BEGIN:VTIMEZONE
TZID:UTC
BEGIN:STANDARD
TZOFFSETFROM:+0000
TZOFFSETTO:+0000
TZNAME:UTC
DTSTART:20210101T000000
END:STANDARD
END:VTIMEZONE
BEGIN:VEVENT
DTSTART;TZID=UTC:20210820T080000
DTEND;TZID=UTC:20211217T000000
DTSTAMP:20260422T221734
CREATED:20240401T135223Z
LAST-MODIFIED:20240401T135223Z
UID:3691-1629446400-1639699200@emilypeasgood.com
SUMMARY:Isle of Sound by Emily Peasgood
DESCRIPTION:
URL:https://emilypeasgood.com/event/isle-of-sound-by-emily-peasgood-2/
LOCATION:Madrid
END:VEVENT
BEGIN:VEVENT
DTSTART;TZID=UTC:20210820T080000
DTEND;TZID=UTC:20211217T000000
DTSTAMP:20260422T221734
CREATED:20240401T135223Z
LAST-MODIFIED:20240401T135223Z
UID:3692-1629446400-1639699200@emilypeasgood.com
SUMMARY:Isle of Sound by Emily Peasgood
DESCRIPTION:
URL:https://emilypeasgood.com/event/isle-of-sound-by-emily-peasgood-3/
LOCATION:Madrid
END:VEVENT
BEGIN:VEVENT
DTSTART;TZID=UTC:20210820T080000
DTEND;TZID=UTC:20211217T000000
DTSTAMP:20260422T221734
CREATED:20240401T135223Z
LAST-MODIFIED:20240401T135228Z
UID:3690-1629446400-1639699200@emilypeasgood.com
SUMMARY:Isle of Sound by Emily Peasgood
DESCRIPTION:
URL:https://emilypeasgood.com/event/isle-of-sound-by-emily-peasgood/
LOCATION:Madrid
END:VEVENT
END:VCALENDAR