BEGIN:VCALENDAR
VERSION:2.0
PRODID:-//Emily Peasgood - ECPv6.10.2//NONSGML v1.0//EN
CALSCALE:GREGORIAN
METHOD:PUBLISH
X-WR-CALNAME:Emily Peasgood
X-ORIGINAL-URL:https://emilypeasgood.com
X-WR-CALDESC:Events for Emily Peasgood
REFRESH-INTERVAL;VALUE=DURATION:PT1H
X-Robots-Tag:noindex
X-PUBLISHED-TTL:PT1H
BEGIN:VTIMEZONE
TZID:UTC
BEGIN:STANDARD
TZOFFSETFROM:+0000
TZOFFSETTO:+0000
TZNAME:UTC
DTSTART:20230101T000000
END:STANDARD
END:VTIMEZONE
BEGIN:VEVENT
DTSTART;VALUE=DATE:20230301
DTEND;VALUE=DATE:20250401
DTSTAMP:20260422T222749
CREATED:20240401T163706Z
LAST-MODIFIED:20240401T163706Z
UID:3899-1677628800-1743465599@emilypeasgood.com
SUMMARY:Listening Desk at Llyfrgell Genedlaethol Cymru / National Library of Wales
DESCRIPTION:
URL:https://emilypeasgood.com/event/listening-desk-at-llyfrgell-genedlaethol-cymru-national-library-of-wales/
LOCATION:Llyfrgell Genedlaethol Cymru / National Library of Wales\, Penglais Rd\, Aberystwyth\, Wales\, SY23 3BU\, United Kingdom
END:VEVENT
BEGIN:VEVENT
DTSTART;VALUE=DATE:20230301
DTEND;VALUE=DATE:20250401
DTSTAMP:20260422T222749
CREATED:20240401T163758Z
LAST-MODIFIED:20240401T163806Z
UID:3900-1677628800-1743465599@emilypeasgood.com
SUMMARY:Listening Desk at National Library of Scotland
DESCRIPTION:
URL:https://emilypeasgood.com/event/listening-desk-at/
LOCATION:National Library of Scotland\, Kelvin hall\, Argyle St\, Glasgow\, Glasgow\, G3 8AW\, United Kingdom
END:VEVENT
BEGIN:VEVENT
DTSTART;VALUE=DATE:20230301
DTEND;VALUE=DATE:20250401
DTSTAMP:20260422T222749
CREATED:20240401T163909Z
LAST-MODIFIED:20240401T163909Z
UID:3901-1677628800-1743465599@emilypeasgood.com
SUMMARY:Listening Desk at Ulster Transport Museum
DESCRIPTION:
URL:https://emilypeasgood.com/event/listening-desk-at-ulster-transport-museum/
LOCATION:Ulster Transport Museum\, 153 Bangor Rd\, Holywood\, Cultra\, County Down\, BT18 0EU\, Ireland
END:VEVENT
BEGIN:VEVENT
DTSTART;TZID=UTC:20230301T000000
DTEND;TZID=UTC:20250331T235959
DTSTAMP:20260422T222749
CREATED:20240401T164043Z
LAST-MODIFIED:20250403T124802Z
UID:3902-1677628800-1743465599@emilypeasgood.com
SUMMARY:Listening Desk at University of Leicester
DESCRIPTION:
URL:https://emilypeasgood.com/event/listening-desk-at-university-of-leicester/
LOCATION:University of Leicester\, Sir Bob Burgess Building\, Freeman's Common\, Leicester\, Leicestershire\, LE2 6BF\, United Kingdom
ATTACH;FMTTYPE=image/png:https://emilypeasgood.com/wp-content/uploads/2024/04/221213-BL-sound-desk-colour-test.png
END:VEVENT
BEGIN:VEVENT
DTSTART;VALUE=DATE:20230405
DTEND;VALUE=DATE:20250501
DTSTAMP:20260422T222749
CREATED:20240401T164622Z
LAST-MODIFIED:20240401T165322Z
UID:3905-1680652800-1746057599@emilypeasgood.com
SUMMARY:I Would Rather Walk With You
DESCRIPTION:10am-4pm\, Wednesday-Sunday
URL:https://emilypeasgood.com/event/i-would-rather-walk-with-you/
LOCATION:The West Wing Battery at Fort Burgoyne\, West Wing Battery\, Norfolk Towers Way (opposite Fort Burgoyne)\, Guston\, Dover\, Kent\, CT15 5FQ\, United Kingdom
END:VEVENT
BEGIN:VEVENT
DTSTART;TZID=UTC:20250307T100000
DTEND;TZID=UTC:20250309T200000
DTSTAMP:20260422T222749
CREATED:20250305T121526Z
LAST-MODIFIED:20250305T121532Z
UID:11983-1741341600-1741550400@emilypeasgood.com
SUMMARY:VOICE100 at Decade of Dissent
DESCRIPTION:This year\, Power of Women Thanet (POW) is celebrating its 10th anniversary with the Decade of Dissent Festival. Since its founding in 2015\, POW has been using creativity to champion gender equality. This year POW will be getting back to grassroots and activist beginnings to celebrate the 10th anniversary with the Decade of Dissent Festival\, tackling issues of social isolation and ageism and championing the feminist pioneers of Thanet. This exhibition celebrates ten projects commissioned by POW since 2015.
URL:https://emilypeasgood.com/event/voice100-at-decade-of-dissent/
LOCATION:Ark Cliftonville\, Albion Road\, Margate\, CT9 2HP
END:VEVENT
BEGIN:VEVENT
DTSTART;TZID=UTC:20250405T110000
DTEND;TZID=UTC:20250405T140000
DTSTAMP:20260422T222749
CREATED:20250403T123926Z
LAST-MODIFIED:20250403T124211Z
UID:12610-1743850800-1743861600@emilypeasgood.com
SUMMARY:Emily Peasgood at In-Sonora\, Madrid
DESCRIPTION:
URL:https://emilypeasgood.com/event/emily-peasgood-at-in-sonora-madrid/
LOCATION:Cruce Contemporaneo\, Calle del Dr. Fourquet\, 5\, Centro\, Madrid\, 28012\, Spain
END:VEVENT
END:VCALENDAR