BEGIN:VCALENDAR
VERSION:2.0
PRODID:-//Emily Peasgood - ECPv6.10.2//NONSGML v1.0//EN
CALSCALE:GREGORIAN
METHOD:PUBLISH
X-ORIGINAL-URL:https://emilypeasgood.com
X-WR-CALDESC:Events for Emily Peasgood
REFRESH-INTERVAL;VALUE=DURATION:PT1H
X-Robots-Tag:noindex
X-PUBLISHED-TTL:PT1H
BEGIN:VTIMEZONE
TZID:UTC
BEGIN:STANDARD
TZOFFSETFROM:+0000
TZOFFSETTO:+0000
TZNAME:UTC
DTSTART:20210101T000000
END:STANDARD
END:VTIMEZONE
BEGIN:VEVENT
DTSTART;TZID=UTC:20210123T190000
DTEND;TZID=UTC:20210123T190000
DTSTAMP:20260423T093052
CREATED:20240401T135228Z
LAST-MODIFIED:20240401T135228Z
UID:3694-1611428400-1611428400@emilypeasgood.com
SUMMARY:Cambridge North Folk Song Project Launch\, with Martin Carthy
DESCRIPTION:
URL:https://emilypeasgood.com/event/cambridge-north-folk-song-project-launch-with-martin-carthy/
LOCATION:Madrid
END:VEVENT
END:VCALENDAR